BEGIN:VCALENDAR
VERSION:2.0
PRODID:-//Goulburn Race Club - ECPv4.9.4//NONSGML v1.0//EN
CALSCALE:GREGORIAN
METHOD:PUBLISH
X-WR-CALNAME:Goulburn Race Club
X-ORIGINAL-URL:https://goulburnraceclub.com.au
X-WR-CALDESC:Events for Goulburn Race Club
BEGIN:VTIMEZONE
TZID:"Australia/Sydney"
BEGIN:STANDARD
TZOFFSETFROM:+1100
TZOFFSETTO:+1000
TZNAME:AEST
DTSTART:20200404T160000
END:STANDARD
BEGIN:DAYLIGHT
TZOFFSETFROM:+1000
TZOFFSETTO:+1100
TZNAME:AEDT
DTSTART:20201003T160000
END:DAYLIGHT
END:VTIMEZONE
BEGIN:VEVENT
DTSTART;VALUE=DATE:20200312
DTEND;VALUE=DATE:20200313
DTSTAMP:20200225T155056
CREATED:20191211T231333Z
LAST-MODIFIED:20191211T231333Z
UID:2426-1583971200-1584057599@goulburnraceclub.com.au
SUMMARY:RACE DAY
DESCRIPTION:
URL:https://goulburnraceclub.com.au/event/race-day-42/
CATEGORIES:Race Days
END:VEVENT
BEGIN:VEVENT
DTSTART;VALUE=DATE:20200313
DTEND;VALUE=DATE:20200314
DTSTAMP:20200225T155056
CREATED:20191211T224629Z
LAST-MODIFIED:20191211T225509Z
UID:2401-1584057600-1584143999@goulburnraceclub.com.au
SUMMARY:JUMPOUTS
DESCRIPTION:
URL:https://goulburnraceclub.com.au/event/jumpouts-44/
CATEGORIES:Jump Outs
END:VEVENT
BEGIN:VEVENT
DTSTART;VALUE=DATE:20200313
DTEND;VALUE=DATE:20200314
DTSTAMP:20200225T155056
CREATED:20200218T022910Z
LAST-MODIFIED:20200218T022910Z
UID:2478-1584057600-1584143999@goulburnraceclub.com.au
SUMMARY:JUMPOUTS
DESCRIPTION:
URL:https://goulburnraceclub.com.au/event/jumpouts-50/
CATEGORIES:Jump Outs
END:VEVENT
BEGIN:VEVENT
DTSTART;VALUE=DATE:20200323
DTEND;VALUE=DATE:20200324
DTSTAMP:20200225T155056
CREATED:20191211T231434Z
LAST-MODIFIED:20191211T231434Z
UID:2428-1584921600-1585007999@goulburnraceclub.com.au
SUMMARY:RACE DAY
DESCRIPTION:
URL:https://goulburnraceclub.com.au/event/race-day-43/
CATEGORIES:Race Days
END:VEVENT
BEGIN:VEVENT
DTSTART;VALUE=DATE:20200324
DTEND;VALUE=DATE:20200325
DTSTAMP:20200225T155056
CREATED:20191211T224705Z
LAST-MODIFIED:20191211T225459Z
UID:2403-1585008000-1585094399@goulburnraceclub.com.au
SUMMARY:JUMPOUTS
DESCRIPTION:
URL:https://goulburnraceclub.com.au/event/jumpouts-43/
CATEGORIES:Jump Outs
END:VEVENT
BEGIN:VEVENT
DTSTART;VALUE=DATE:20200416
DTEND;VALUE=DATE:20200417
DTSTAMP:20200225T155056
CREATED:20191211T231558Z
LAST-MODIFIED:20191211T231558Z
UID:2430-1586995200-1587081599@goulburnraceclub.com.au
SUMMARY:RACE DAY
DESCRIPTION:
URL:https://goulburnraceclub.com.au/event/race-day-44/
CATEGORIES:Race Days
END:VEVENT
BEGIN:VEVENT
DTSTART;VALUE=DATE:20200417
DTEND;VALUE=DATE:20200418
DTSTAMP:20200225T155056
CREATED:20200218T023111Z
LAST-MODIFIED:20200218T023111Z
UID:2482-1587081600-1587167999@goulburnraceclub.com.au
SUMMARY:JUMPOUTS
DESCRIPTION:
URL:https://goulburnraceclub.com.au/event/jumpouts-52/
CATEGORIES:Jump Outs
END:VEVENT
BEGIN:VEVENT
DTSTART;VALUE=DATE:20200426
DTEND;VALUE=DATE:20200427
DTSTAMP:20200225T155056
CREATED:20191211T231627Z
LAST-MODIFIED:20191211T231627Z
UID:2432-1587859200-1587945599@goulburnraceclub.com.au
SUMMARY:RACE DAY
DESCRIPTION:
URL:https://goulburnraceclub.com.au/event/race-day-45/
CATEGORIES:Race Days
END:VEVENT
BEGIN:VEVENT
DTSTART;VALUE=DATE:20200427
DTEND;VALUE=DATE:20200428
DTSTAMP:20200225T155056
CREATED:20191211T224829Z
LAST-MODIFIED:20191211T225442Z
UID:2407-1587945600-1588031999@goulburnraceclub.com.au
SUMMARY:JUMPOUTS
DESCRIPTION:
URL:https://goulburnraceclub.com.au/event/jumpouts-41/
CATEGORIES:Jump Outs
END:VEVENT
BEGIN:VEVENT
DTSTART;VALUE=DATE:20200508
DTEND;VALUE=DATE:20200509
DTSTAMP:20200225T155056
CREATED:20191211T231706Z
LAST-MODIFIED:20191211T231706Z
UID:2434-1588896000-1588982399@goulburnraceclub.com.au
SUMMARY:RACE DAY
DESCRIPTION:
URL:https://goulburnraceclub.com.au/event/race-day-46/
CATEGORIES:Race Days
END:VEVENT
BEGIN:VEVENT
DTSTART;VALUE=DATE:20200512
DTEND;VALUE=DATE:20200513
DTSTAMP:20200225T155056
CREATED:20200218T025825Z
LAST-MODIFIED:20200218T025825Z
UID:2486-1589241600-1589327999@goulburnraceclub.com.au
SUMMARY:JUMPOUTS
DESCRIPTION:
URL:https://goulburnraceclub.com.au/event/jumpouts-54/
CATEGORIES:Jump Outs
END:VEVENT
BEGIN:VEVENT
DTSTART;VALUE=DATE:20200526
DTEND;VALUE=DATE:20200527
DTSTAMP:20200225T155056
CREATED:20200218T025921Z
LAST-MODIFIED:20200218T025921Z
UID:2488-1590451200-1590537599@goulburnraceclub.com.au
SUMMARY:JUMPOUTS - B Grass
DESCRIPTION:
URL:https://goulburnraceclub.com.au/event/jumpouts-b-grass/
CATEGORIES:Jump Outs
END:VEVENT
BEGIN:VEVENT
DTSTART;VALUE=DATE:20200529
DTEND;VALUE=DATE:20200530
DTSTAMP:20200225T155056
CREATED:20191211T231738Z
LAST-MODIFIED:20191211T231738Z
UID:2436-1590710400-1590796799@goulburnraceclub.com.au
SUMMARY:RACE DAY
DESCRIPTION:
URL:https://goulburnraceclub.com.au/event/race-day-47/
CATEGORIES:Race Days
END:VEVENT
BEGIN:VEVENT
DTSTART;VALUE=DATE:20200602
DTEND;VALUE=DATE:20200603
DTSTAMP:20200225T155056
CREATED:20200218T025954Z
LAST-MODIFIED:20200218T025954Z
UID:2490-1591056000-1591142399@goulburnraceclub.com.au
SUMMARY:JUMPOUTS
DESCRIPTION:
URL:https://goulburnraceclub.com.au/event/jumpouts-55/
CATEGORIES:Jump Outs
END:VEVENT
BEGIN:VEVENT
DTSTART;VALUE=DATE:20200612
DTEND;VALUE=DATE:20200613
DTSTAMP:20200225T155056
CREATED:20191211T231819Z
LAST-MODIFIED:20191211T231819Z
UID:2438-1591920000-1592006399@goulburnraceclub.com.au
SUMMARY:RACE DAY
DESCRIPTION:
URL:https://goulburnraceclub.com.au/event/race-day-48/
CATEGORIES:Race Days
END:VEVENT
BEGIN:VEVENT
DTSTART;VALUE=DATE:20200616
DTEND;VALUE=DATE:20200617
DTSTAMP:20200225T155056
CREATED:20200218T030039Z
LAST-MODIFIED:20200218T030039Z
UID:2492-1592265600-1592351999@goulburnraceclub.com.au
SUMMARY:JUMPOUTS
DESCRIPTION:
URL:https://goulburnraceclub.com.au/event/jumpouts-56/
CATEGORIES:Jump Outs
END:VEVENT
BEGIN:VEVENT
DTSTART;VALUE=DATE:20200630
DTEND;VALUE=DATE:20200701
DTSTAMP:20200225T155056
CREATED:20191211T225329Z
LAST-MODIFIED:20191211T225329Z
UID:2417-1593475200-1593561599@goulburnraceclub.com.au
SUMMARY:JUMPOUTS
DESCRIPTION:
URL:https://goulburnraceclub.com.au/event/jumpouts-36/
CATEGORIES:Jump Outs
END:VEVENT
BEGIN:VEVENT
DTSTART;VALUE=DATE:20200710
DTEND;VALUE=DATE:20200711
DTSTAMP:20200225T155056
CREATED:20200218T015657Z
LAST-MODIFIED:20200218T015657Z
UID:2456-1594339200-1594425599@goulburnraceclub.com.au
SUMMARY:RACE DAY
DESCRIPTION:
URL:https://goulburnraceclub.com.au/event/race-day-49/
CATEGORIES:Race Days
END:VEVENT
BEGIN:VEVENT
DTSTART;VALUE=DATE:20200720
DTEND;VALUE=DATE:20200721
DTSTAMP:20200225T155056
CREATED:20200218T015753Z
LAST-MODIFIED:20200218T015753Z
UID:2458-1595203200-1595289599@goulburnraceclub.com.au
SUMMARY:RACE DAY
DESCRIPTION:
URL:https://goulburnraceclub.com.au/event/race-day-50/
CATEGORIES:Race Days
END:VEVENT
BEGIN:VEVENT
DTSTART;VALUE=DATE:20200731
DTEND;VALUE=DATE:20200801
DTSTAMP:20200225T155056
CREATED:20200218T015850Z
LAST-MODIFIED:20200218T015850Z
UID:2460-1596153600-1596239999@goulburnraceclub.com.au
SUMMARY:RACE DAY
DESCRIPTION:
URL:https://goulburnraceclub.com.au/event/race-day-51/
CATEGORIES:Race Days
END:VEVENT
BEGIN:VEVENT
DTSTART;VALUE=DATE:20200810
DTEND;VALUE=DATE:20200811
DTSTAMP:20200225T155056
CREATED:20200218T015925Z
LAST-MODIFIED:20200218T015925Z
UID:2462-1597017600-1597103999@goulburnraceclub.com.au
SUMMARY:RACE DAY
DESCRIPTION:
URL:https://goulburnraceclub.com.au/event/race-day-52/
CATEGORIES:Race Days
END:VEVENT
BEGIN:VEVENT
DTSTART;VALUE=DATE:20200911
DTEND;VALUE=DATE:20200912
DTSTAMP:20200225T155056
CREATED:20200218T020011Z
LAST-MODIFIED:20200218T020011Z
UID:2464-1599782400-1599868799@goulburnraceclub.com.au
SUMMARY:RACE DAY
DESCRIPTION:
URL:https://goulburnraceclub.com.au/event/race-day-53/
CATEGORIES:Race Days
END:VEVENT
BEGIN:VEVENT
DTSTART;VALUE=DATE:20200925
DTEND;VALUE=DATE:20200926
DTSTAMP:20200225T155056
CREATED:20200218T020308Z
LAST-MODIFIED:20200218T020308Z
UID:2466-1600992000-1601078399@goulburnraceclub.com.au
SUMMARY:RACE DAY
DESCRIPTION:
URL:https://goulburnraceclub.com.au/event/race-day-54/
CATEGORIES:Race Days
END:VEVENT
BEGIN:VEVENT
DTSTART;VALUE=DATE:20201006
DTEND;VALUE=DATE:20201007
DTSTAMP:20200225T155056
CREATED:20200218T020349Z
LAST-MODIFIED:20200218T020349Z
UID:2468-1601942400-1602028799@goulburnraceclub.com.au
SUMMARY:RACE DAY
DESCRIPTION:
URL:https://goulburnraceclub.com.au/event/race-day-55/
CATEGORIES:Race Days
END:VEVENT
BEGIN:VEVENT
DTSTART;VALUE=DATE:20201101
DTEND;VALUE=DATE:20201102
DTSTAMP:20200225T155056
CREATED:20200218T022159Z
LAST-MODIFIED:20200218T022159Z
UID:2470-1604188800-1604275199@goulburnraceclub.com.au
SUMMARY:GOULBURN CUP
DESCRIPTION:
URL:https://goulburnraceclub.com.au/event/goulburn-cup-2/
CATEGORIES:Race Days
END:VEVENT
BEGIN:VEVENT
DTSTART;VALUE=DATE:20201107
DTEND;VALUE=DATE:20201108
DTSTAMP:20200225T155056
CREATED:20200218T022248Z
LAST-MODIFIED:20200218T022248Z
UID:2472-1604707200-1604793599@goulburnraceclub.com.au
SUMMARY:GIRLS DAY OUT
DESCRIPTION:
URL:https://goulburnraceclub.com.au/event/girls-day-out-2/
CATEGORIES:Race Days
END:VEVENT
BEGIN:VEVENT
DTSTART;VALUE=DATE:20201218
DTEND;VALUE=DATE:20201219
DTSTAMP:20200225T155056
CREATED:20200218T022357Z
LAST-MODIFIED:20200218T022357Z
UID:2474-1608249600-1608335999@goulburnraceclub.com.au
SUMMARY:CHRISTMAS CUP
DESCRIPTION:
URL:https://goulburnraceclub.com.au/event/christmas-cup/
CATEGORIES:Race Days
END:VEVENT
END:VCALENDAR